BEGIN:VCALENDAR
VERSION:2.0
PRODID:-//Squarespace Inc/Squarespace 6//v6//EN
BEGIN:VEVENT
UID:5b6a5c7f8a922df70e3a9647@squarespace.com
DTSTAMP:20180808T031151Z
DTSTART:20181123T073000Z
DTEND:20181123T103000Z
SUMMARY:Full Moon Meditation
END:VEVENT
END:VCALENDAR
