BEGIN:VCALENDAR
VERSION:2.0
PRODID:-//Squarespace Inc/Squarespace 6//v6//EN
BEGIN:VEVENT
UID:5b32da226d2a73fb6eb6a3ec@squarespace.com
DTSTAMP:20180808T031105Z
DTSTART:20180721T080000Z
DTEND:20180721T090000Z
SUMMARY:200hr Yoga Teacher Training Info Session
END:VEVENT
END:VCALENDAR
