BEGIN:VCALENDAR
VERSION:2.0
PRODID:-//Squarespace Inc/Squarespace 6//v6//EN
BEGIN:VEVENT
UID:5c308445f950b7a898fb4efb@squarespace.com
DTSTAMP:20190105T102120Z
DTSTART:20190401T073000Z
DTEND:20190401T083000Z
SUMMARY:1st of month Ganapathy Pooja
GEO:42.138331;-83.180813
LOCATION:Kriya Yoga Studio\, 71 Boomerang Place\, Seven Hills\, NSW\, 2147\
 , Australia
END:VEVENT
END:VCALENDAR
