BEGIN:VCALENDAR
VERSION:2.0
PRODID:-//Squarespace Inc/Squarespace 6//v6//EN
BEGIN:VEVENT
UID:5b6a60330e2e72497ac8251d@squarespace.com
DTSTAMP:20180808T032208Z
DTSTART:20180901T083000Z
DTEND:20180901T093000Z
SUMMARY:1st of month Ganapathy Pooja
GEO:-33.775174;150.935146
LOCATION:kriya yoga studio\, 71 Boomerang Place\, Seven Hills\, NSW\, 2147\
 , Australia
END:VEVENT
END:VCALENDAR
