BEGIN:VCALENDAR
VERSION:2.0
PRODID:-//Squarespace Inc/Squarespace 6//v6//EN
BEGIN:VEVENT
UID:5c30864ef950b7a898fb57d6@squarespace.com
DTSTAMP:20190105T104353Z
DTSTART:20190304T083000Z
DTEND:20190304T193000Z
SUMMARY:Maha Shivaratri
GEO:-33.76288;150.99212
LOCATION:Baulkam HIlls
END:VEVENT
END:VCALENDAR
